BEGIN:VCALENDAR
VERSION:2.0
PRODID:-//Förderverein Jüdische Geschichte und Kultur im Kreis Groß-Gerau e.V. - ECPv6.15.20//NONSGML v1.0//EN
CALSCALE:GREGORIAN
METHOD:PUBLISH
X-ORIGINAL-URL:https://www.fjgk.de
X-WR-CALDESC:Veranstaltungen für Förderverein Jüdische Geschichte und Kultur im Kreis Groß-Gerau e.V.
REFRESH-INTERVAL;VALUE=DURATION:PT1H
X-Robots-Tag:noindex
X-PUBLISHED-TTL:PT1H
BEGIN:VTIMEZONE
TZID:Europe/Paris
BEGIN:DAYLIGHT
TZOFFSETFROM:+0100
TZOFFSETTO:+0200
TZNAME:CEST
DTSTART:20210328T010000
END:DAYLIGHT
BEGIN:STANDARD
TZOFFSETFROM:+0200
TZOFFSETTO:+0100
TZNAME:CET
DTSTART:20211031T010000
END:STANDARD
BEGIN:DAYLIGHT
TZOFFSETFROM:+0100
TZOFFSETTO:+0200
TZNAME:CEST
DTSTART:20220327T010000
END:DAYLIGHT
BEGIN:STANDARD
TZOFFSETFROM:+0200
TZOFFSETTO:+0100
TZNAME:CET
DTSTART:20221030T010000
END:STANDARD
BEGIN:DAYLIGHT
TZOFFSETFROM:+0100
TZOFFSETTO:+0200
TZNAME:CEST
DTSTART:20230326T010000
END:DAYLIGHT
BEGIN:STANDARD
TZOFFSETFROM:+0200
TZOFFSETTO:+0100
TZNAME:CET
DTSTART:20231029T010000
END:STANDARD
END:VTIMEZONE
BEGIN:VEVENT
DTSTART;TZID=Europe/Paris:20220321T080000
DTEND;TZID=Europe/Paris:20220321T180000
DTSTAMP:20260422T223832
CREATED:20220314T195851Z
LAST-MODIFIED:20240804T065316Z
UID:2213-1647849600-1647885600@www.fjgk.de
SUMMARY:Aufruf zur Kornsandgedenkstunde am Montag\, 21. März 2022
DESCRIPTION:Aufruf zur Kornsandgedenkstunde am Montag\, 21. März 2022 \nAm 77. Jahrestag des NS-Verbrechens auf dem Kornsand lädt der Arbeitskreis Kornsand \nzur jährlichen Gedenkfeier am rechtsrheinischen Mahnmal ein. \n  \nDie Ansprache hält in diesem Jahr der rheinland-pfälzische Landesbeauftragte für \njüdisches Leben und Antisemitismusfragen\, Dieter Burgard. \nMusikalisch wird die Gedenkstunde von der Riedstädter Musikwerkstatt begleitet. Der Arbeitskreis Kornsand erinnert jährlich in Zusammenarbeit \nmit den Städten Nierstein\, Oppenheim\, der Gemeinde Trebur und den Geschichtsvereinen am Gedenkstein an das \nNS-Verbrechen der letzten Kriegstage. \nAm 21. März 1945 waren in der Nähe der Anlegestelle der Rheinfähre fünf Männer und eine Frau aus Nierstein und Oppenheim von fanatisiertem \nFührungspersonal des untergehenden NS-Regimes ermordet worden. Die sechs rheinhessischen Hitler-Gegner wurden brutal misshandelt\, \nmussten ihre Gräber ausheben und wurden anschließend im Angesicht ihrer bereits befreiten Heimat von einem 18-jährigen Leutnant der Nazi-Wehrmacht kaltblütig ermordet. \nDie Opfer: Cerry und Johann Eller\, Jakob Schuch\, Nikolaus Lerch\, Georg Eberhardt aus Nierstein und Rudolf Gruber aus Oppenheim \n  \nDurch die Erinnerung an solche Mordtaten besteht die Chance\, dem Vergessen Einhalt zu gebieten und rechtsradikale Unbelehrbare in die Schranken zu weisen. \nDeutsche Geschichte der Nazizeit ist vor allem Tätergeschichte. Daran erinnern wir am Kornsand. \n  \nWir treffen uns am Kornsand\, damit wir nicht vergessen und nicht verdrängen. \nWir stehen in der Tradition derer\, die auf den Gedenkstein geschrieben haben: \n  \nDen Toten zum Gedächtnis\,  \nden Lebenden zur Mahnung\,  \ndamit\, was hier geschah\, \nsich nie wiederhole. \nDie Veranstaltung am \nMontag\, 21. März 2022 beginnt um 18 Uhr am Gedenkstein. \nDen linksrheinischen Teilnehmern wird die Rheinfähre um 17.20 Uhr empfohlen. \n  \nArbeitskreis Kornsand: Stadt Nierstein\, Geschichtsverein Nierstein\, Stadt Oppenheim\, Oppenheimer Geschichtsverein\, Gemeinde Trebur\, \nGesellschaft Heimat und Geschichte Trebur\, Verein Jüdische Geschichte und Kultur im LK Groß-Gerau\, Jugendprojekt \n“Gewalt hat eine Geschichte”
URL:https://www.fjgk.de/event/aufruf-zur-kornsandgedenkstunde-am-montag-21-maerz-2022/
END:VEVENT
END:VCALENDAR