BEGIN:VCALENDAR
VERSION:2.0
PRODID:-//Förderverein Jüdische Geschichte und Kultur im Kreis Groß-Gerau e.V. - ECPv6.15.20//NONSGML v1.0//EN
CALSCALE:GREGORIAN
METHOD:PUBLISH
X-WR-CALNAME:Förderverein Jüdische Geschichte und Kultur im Kreis Groß-Gerau e.V.
X-ORIGINAL-URL:https://www.fjgk.de
X-WR-CALDESC:Veranstaltungen für Förderverein Jüdische Geschichte und Kultur im Kreis Groß-Gerau e.V.
REFRESH-INTERVAL;VALUE=DURATION:PT1H
X-Robots-Tag:noindex
X-PUBLISHED-TTL:PT1H
BEGIN:VTIMEZONE
TZID:Europe/Paris
BEGIN:DAYLIGHT
TZOFFSETFROM:+0100
TZOFFSETTO:+0200
TZNAME:CEST
DTSTART:20220327T010000
END:DAYLIGHT
BEGIN:STANDARD
TZOFFSETFROM:+0200
TZOFFSETTO:+0100
TZNAME:CET
DTSTART:20221030T010000
END:STANDARD
BEGIN:DAYLIGHT
TZOFFSETFROM:+0100
TZOFFSETTO:+0200
TZNAME:CEST
DTSTART:20230326T010000
END:DAYLIGHT
BEGIN:STANDARD
TZOFFSETFROM:+0200
TZOFFSETTO:+0100
TZNAME:CET
DTSTART:20231029T010000
END:STANDARD
BEGIN:DAYLIGHT
TZOFFSETFROM:+0100
TZOFFSETTO:+0200
TZNAME:CEST
DTSTART:20240331T010000
END:DAYLIGHT
BEGIN:STANDARD
TZOFFSETFROM:+0200
TZOFFSETTO:+0100
TZNAME:CET
DTSTART:20241027T010000
END:STANDARD
END:VTIMEZONE
BEGIN:VEVENT
DTSTART;TZID=Europe/Paris:20230127T190000
DTEND;TZID=Europe/Paris:20230127T203000
DTSTAMP:20260423T104745
CREATED:20230106T071419Z
LAST-MODIFIED:20230106T071535Z
UID:2717-1674846000-1674851400@www.fjgk.de
SUMMARY:Einladung zu einer Gedenkveranstaltung zum Shoah-Gedenktag 2023 am 27.01.2023 um 19.00 Uhr
DESCRIPTION:Einladung zu einer Gedenkveranstaltung zum Shoah-Gedenktag 2023 am 27.01.2023 um 19.00 Uhr
URL:https://www.fjgk.de/event/einladung-zu-einer-gedenkveranstaltung-zum-shoah-gedenktag-2023-am-27-01-2023-um-19-00-uhr/
END:VEVENT
END:VCALENDAR