BEGIN:VCALENDAR
VERSION:2.0
PRODID:-//Förderverein Jüdische Geschichte und Kultur im Kreis Groß-Gerau e.V. - ECPv6.15.20//NONSGML v1.0//EN
CALSCALE:GREGORIAN
METHOD:PUBLISH
X-ORIGINAL-URL:https://www.fjgk.de
X-WR-CALDESC:Veranstaltungen für Förderverein Jüdische Geschichte und Kultur im Kreis Groß-Gerau e.V.
REFRESH-INTERVAL;VALUE=DURATION:PT1H
X-Robots-Tag:noindex
X-PUBLISHED-TTL:PT1H
BEGIN:VTIMEZONE
TZID:Europe/Paris
BEGIN:DAYLIGHT
TZOFFSETFROM:+0100
TZOFFSETTO:+0200
TZNAME:CEST
DTSTART:20230326T010000
END:DAYLIGHT
BEGIN:STANDARD
TZOFFSETFROM:+0200
TZOFFSETTO:+0100
TZNAME:CET
DTSTART:20231029T010000
END:STANDARD
BEGIN:DAYLIGHT
TZOFFSETFROM:+0100
TZOFFSETTO:+0200
TZNAME:CEST
DTSTART:20240331T010000
END:DAYLIGHT
BEGIN:STANDARD
TZOFFSETFROM:+0200
TZOFFSETTO:+0100
TZNAME:CET
DTSTART:20241027T010000
END:STANDARD
BEGIN:DAYLIGHT
TZOFFSETFROM:+0100
TZOFFSETTO:+0200
TZNAME:CEST
DTSTART:20250330T010000
END:DAYLIGHT
BEGIN:STANDARD
TZOFFSETFROM:+0200
TZOFFSETTO:+0100
TZNAME:CET
DTSTART:20251026T010000
END:STANDARD
END:VTIMEZONE
BEGIN:VEVENT
DTSTART;TZID=Europe/Paris:20240127T173000
DTEND;TZID=Europe/Paris:20240127T183000
DTSTAMP:20260424T062132
CREATED:20240114T091030Z
LAST-MODIFIED:20240114T091906Z
UID:3895-1706376600-1706380200@www.fjgk.de
SUMMARY:Einladung zur Gedenkveranstaltung anlässlich des 79. Jahrestages der Befreiung von Auschwitz-Birkenau am 27. 01.2024 um 17.30 Uhr
DESCRIPTION:Einladung zur Gedenkveranstaltung anlässlich des 79. Jahrestages der Befreiung von Auschwitz-Birkenau am 27. 01.2024 um 17.30 Uhr
URL:https://www.fjgk.de/event/3895/
END:VEVENT
BEGIN:VEVENT
DTSTART;TZID=Europe/Paris:20240127T190000
DTEND;TZID=Europe/Paris:20240127T203000
DTSTAMP:20260424T062132
CREATED:20231230T143239Z
LAST-MODIFIED:20240804T060552Z
UID:3875-1706382000-1706387400@www.fjgk.de
SUMMARY:Einladung zu einer Gedenkveranstaltung zum Shoah-Gedenktag 2024 am 27.01.2024 um 19.00 Uhr
DESCRIPTION:Einladung zu einer Gedenkveranstaltung zum Shoah-Gedenktag 2024 am 27.01.2024 um 19.00 Uhr
URL:https://www.fjgk.de/event/einladung-zu-einer-gedenkveranstaltung-zum-shoah-gedenktag-2024-am-27-01-2024-um-19-00-uhr/
END:VEVENT
END:VCALENDAR