BEGIN:VCALENDAR
VERSION:2.0
PRODID:-//Förderverein Jüdische Geschichte und Kultur im Kreis Groß-Gerau e.V. - ECPv6.15.20//NONSGML v1.0//EN
CALSCALE:GREGORIAN
METHOD:PUBLISH
X-WR-CALNAME:Förderverein Jüdische Geschichte und Kultur im Kreis Groß-Gerau e.V.
X-ORIGINAL-URL:https://www.fjgk.de
X-WR-CALDESC:Veranstaltungen für Förderverein Jüdische Geschichte und Kultur im Kreis Groß-Gerau e.V.
REFRESH-INTERVAL;VALUE=DURATION:PT1H
X-Robots-Tag:noindex
X-PUBLISHED-TTL:PT1H
BEGIN:VTIMEZONE
TZID:Europe/Paris
BEGIN:DAYLIGHT
TZOFFSETFROM:+0100
TZOFFSETTO:+0200
TZNAME:CEST
DTSTART:20230326T010000
END:DAYLIGHT
BEGIN:STANDARD
TZOFFSETFROM:+0200
TZOFFSETTO:+0100
TZNAME:CET
DTSTART:20231029T010000
END:STANDARD
BEGIN:DAYLIGHT
TZOFFSETFROM:+0100
TZOFFSETTO:+0200
TZNAME:CEST
DTSTART:20240331T010000
END:DAYLIGHT
BEGIN:STANDARD
TZOFFSETFROM:+0200
TZOFFSETTO:+0100
TZNAME:CET
DTSTART:20241027T010000
END:STANDARD
BEGIN:DAYLIGHT
TZOFFSETFROM:+0100
TZOFFSETTO:+0200
TZNAME:CEST
DTSTART:20250330T010000
END:DAYLIGHT
BEGIN:STANDARD
TZOFFSETFROM:+0200
TZOFFSETTO:+0100
TZNAME:CET
DTSTART:20251026T010000
END:STANDARD
END:VTIMEZONE
BEGIN:VEVENT
DTSTART;TZID=Europe/Paris:20240414T140000
DTEND;TZID=Europe/Paris:20240414T150000
DTSTAMP:20260424T152311
CREATED:20240310T123813Z
LAST-MODIFIED:20240804T063501Z
UID:4151-1713103200-1713106800@www.fjgk.de
SUMMARY:AUSGEBUCHT - Einladung zum Besuch des jüdischen Friedhofs in Groß-Gerau am  14.04.2024 um 14.00 Uhr - ES WIRD IN DIESEM JAHR NOCH WEITERE FOLGETERMINE GEBEN. ANKÜNDIGUNG ERFOLGT RECHTZEITIG.
DESCRIPTION:AUSGEBUCHT – Einladung zum Besuch des jüdischen Friedhofs in Groß-Gerau am 14.04.2024 um 14.00 Uhr \nES WIRD IN DIESEM JAHR NOCH WEITERE FOLGETERMINE GEBEN.\nANKÜNDIGUNG ERFOLGT RECHTZEITIG.
URL:https://www.fjgk.de/event/ausgebucht-einladung-zum-besuch-des-juedischen-friedhofs-in-gross-gerau-am-14-04-2024-um-14-00-uhr-es-wird-in-diesem-jahr-noch-weitere-folgetermine-geben/
END:VEVENT
END:VCALENDAR