BEGIN:VCALENDAR
VERSION:2.0
PRODID:-//Förderverein Jüdische Geschichte und Kultur im Kreis Groß-Gerau e.V. - ECPv6.15.20//NONSGML v1.0//EN
CALSCALE:GREGORIAN
METHOD:PUBLISH
X-WR-CALNAME:Förderverein Jüdische Geschichte und Kultur im Kreis Groß-Gerau e.V.
X-ORIGINAL-URL:https://www.fjgk.de
X-WR-CALDESC:Veranstaltungen für Förderverein Jüdische Geschichte und Kultur im Kreis Groß-Gerau e.V.
REFRESH-INTERVAL;VALUE=DURATION:PT1H
X-Robots-Tag:noindex
X-PUBLISHED-TTL:PT1H
BEGIN:VTIMEZONE
TZID:Europe/Paris
BEGIN:DAYLIGHT
TZOFFSETFROM:+0100
TZOFFSETTO:+0200
TZNAME:CEST
DTSTART:20190331T010000
END:DAYLIGHT
BEGIN:STANDARD
TZOFFSETFROM:+0200
TZOFFSETTO:+0100
TZNAME:CET
DTSTART:20191027T010000
END:STANDARD
BEGIN:DAYLIGHT
TZOFFSETFROM:+0100
TZOFFSETTO:+0200
TZNAME:CEST
DTSTART:20200329T010000
END:DAYLIGHT
BEGIN:STANDARD
TZOFFSETFROM:+0200
TZOFFSETTO:+0100
TZNAME:CET
DTSTART:20201025T010000
END:STANDARD
BEGIN:DAYLIGHT
TZOFFSETFROM:+0100
TZOFFSETTO:+0200
TZNAME:CEST
DTSTART:20210328T010000
END:DAYLIGHT
BEGIN:STANDARD
TZOFFSETFROM:+0200
TZOFFSETTO:+0100
TZNAME:CET
DTSTART:20211031T010000
END:STANDARD
END:VTIMEZONE
BEGIN:VEVENT
DTSTART;TZID=Europe/Paris:20200124T193000
DTEND;TZID=Europe/Paris:20200124T213000
DTSTAMP:20260422T110431
CREATED:20200105T135359Z
LAST-MODIFIED:20240804T063834Z
UID:2106-1579894200-1579901400@www.fjgk.de
SUMMARY:Filmabend: ELSER - Er hätte die Welt verändert
DESCRIPTION:E I N L A D U N G\nFilmabend\n24. Jan. 2020\nab 19.30 Uhr\nin der ehem. Synagoge Erfelden\nNeugasse 43 \, 64560 Riedstadt\nModerator: Walter Ullrich\nEintritt: frei\n—————————————————————————\nEs haben nur ganze 13 Minuten gefehlt. Wenn am 8. November 1939 Hitler nicht seine Rede im Münchner Bürgerbräukeller etwas früher als geplant beendet hätte\, dann wäre Johann Georg Elser wohl als einer der großen Helden des 20. Jahrhunderts in die Geschichtsbücher eingegangen. In emsiger Akribie hat der junge\, schwäbische Schreiner über Monate den Bombenanschlag vorbereitet. Aber anstatt die Welt von Hitler zu befreien\, schlägt sein Plan fehl und Elser wird verhaftet. Er wird gefoltert\, gequält\, am Ende hingerichtet. Doch wer war dieser Mann? Was trieb ihn an\, als Einzelner in einer Zeit nicht abreißender nationalsozialistischer Erfolgsmeldungen Widerstand zu leisten?\nMit ELSER setzt Regisseur Oliver Hirschbiegel nicht nur einem bedeutenden Widerständler ein anregendes Denkmal. Der Film zeigt darüber hinaus\, dass selbstständiges Denken und das Hinterfragen verfestigter Strukturen zu allen Zeiten möglich ist. Ein lehrreicher\, bewegender und wichtiger Film.
URL:https://www.fjgk.de/event/filmabend-elser-er-haette-die-welt-veraendert/
LOCATION:ehemalige Synagoge Riedstadt-Erfelden\, Neugasse 43\, Riedstadt\, 64560\, Deutschland
END:VEVENT
BEGIN:VEVENT
DTSTART;TZID=Europe/Paris:20200127T193000
DTEND;TZID=Europe/Paris:20200127T203000
DTSTAMP:20260422T110431
CREATED:20200105T140927Z
LAST-MODIFIED:20240804T065833Z
UID:2109-1580153400-1580157000@www.fjgk.de
SUMMARY:Shoa-Gedenktag
DESCRIPTION:E I N L A D U N G\nShoa-Gedenktag\n27. Jan. 2020\nab 19.30 Uhr\nVortragsabend / Lesung\nin der ehem. Synagoge Erfelden\nNeugasse 43 \, 64560 Riedstadt\nReferenten: Monika Kraft und Walter Ullrich\nEintritt: frei \nDer 27. Januar\, der Jahrestag der Befreiung des Vernichtungslagers Auschwitz\, wurde im Jahre 1996 in der Bundesrepublik Deutschland als Gedenktag für die Opfer des NS-Regimes ins Leben gerufen. Der Befreiung von Auschwitz gedenken wir mit folgendem Thema: \nDer Kommandant von Auschwitz Rudolf Höß\nauf der Grundlage des Buches von Jürg Amann „Der Kommandant“\nund dem\n„Kalendarium der Ereignisse im Konzentrationslager Auschwitz-Birkenau 1939 – 1945“\nvon Danuta Czech \nDer Kommandant:\nJürg Amann hat die Aufzeichnungen\, die Auschwitz-Kommandant Rudolf Höß vor seiner Hinrichtung niederschrieb\, zu einem ungeheuerlichen Monolog verdichtet: Dieses Buch sperrt seinen Leser in den Kopf eines Massenmörders.\nHöß hatte die Aufzeichnungen in der Zeit zwischen seiner Verhaftung nach Kriegsende durch die britische Militärpolizei und seiner Verurteilung zum Tod durch das polnische Oberste Volksgericht in der Krakauer Untersuchungshaft ohne Anflug von Reue oder auch nur Einsicht kalt zu Papier gebracht. \nKalendarium der Ereignisse im Konzentrationslager Auschwitz-Birkenau 1939 -1945:\nDie Tageschronik der Ereignisse im Konzentrationslager Auschwitz-Birkenau von 1939 bis 1945\, zusammengestellt aus allen verfügbaren Dokumenten der SS der Gestapo des Reichssicherheitshauptamts aus Kommandanturbefehlen\, Bunkerbüchern und Akten des Nürnberger Prozesses aus Dokumenten des Höß-Prozesses des Frankfurter Auschwitz- und des Jerusalemer Eichmann-Prozesses aus Dokumenten des Bundesarchivs und aus Unterlagen des Auschwitz-Museums. Das größte Vernichtungslager des Dritten Reiches im Spiegel der Mordbürokratie: der Betrieb der Krematorien die Liquidierungen der Sonderkommandos die Selektionen und Experimente an Frauen\, Zwillingen und Zwergen Transporte\, Tötungsarten und Massenverbrennungen Aufstände und Fluchten bis zum Tag der Befreiung. Die grundlegende Materialsammlung für jede Geschichte des Holocausts. \nHöß Lebensbeschreibung wird in einzelnen Abschnitten mit dem Kalendarium konterkariert.
URL:https://www.fjgk.de/event/shoa-gedenktag/
LOCATION:ehemalige Synagoge Riedstadt-Erfelden\, Neugasse 43\, Riedstadt\, 64560\, Deutschland
END:VEVENT
END:VCALENDAR