BEGIN:VCALENDAR
VERSION:2.0
PRODID:-//Förderverein Jüdische Geschichte und Kultur im Kreis Groß-Gerau e.V. - ECPv6.15.20//NONSGML v1.0//EN
CALSCALE:GREGORIAN
METHOD:PUBLISH
X-ORIGINAL-URL:https://www.fjgk.de
X-WR-CALDESC:Veranstaltungen für Förderverein Jüdische Geschichte und Kultur im Kreis Groß-Gerau e.V.
REFRESH-INTERVAL;VALUE=DURATION:PT1H
X-Robots-Tag:noindex
X-PUBLISHED-TTL:PT1H
BEGIN:VTIMEZONE
TZID:Europe/Paris
BEGIN:DAYLIGHT
TZOFFSETFROM:+0100
TZOFFSETTO:+0200
TZNAME:CEST
DTSTART:20190331T010000
END:DAYLIGHT
BEGIN:STANDARD
TZOFFSETFROM:+0200
TZOFFSETTO:+0100
TZNAME:CET
DTSTART:20191027T010000
END:STANDARD
BEGIN:DAYLIGHT
TZOFFSETFROM:+0100
TZOFFSETTO:+0200
TZNAME:CEST
DTSTART:20200329T010000
END:DAYLIGHT
BEGIN:STANDARD
TZOFFSETFROM:+0200
TZOFFSETTO:+0100
TZNAME:CET
DTSTART:20201025T010000
END:STANDARD
BEGIN:DAYLIGHT
TZOFFSETFROM:+0100
TZOFFSETTO:+0200
TZNAME:CEST
DTSTART:20210328T010000
END:DAYLIGHT
BEGIN:STANDARD
TZOFFSETFROM:+0200
TZOFFSETTO:+0100
TZNAME:CET
DTSTART:20211031T010000
END:STANDARD
END:VTIMEZONE
BEGIN:VEVENT
DTSTART;TZID=Europe/Paris:20200913T150000
DTEND;TZID=Europe/Paris:20200913T160000
DTSTAMP:20260420T041718
CREATED:20200905T171719Z
LAST-MODIFIED:20240804T064614Z
UID:2163-1600009200-1600012800@www.fjgk.de
SUMMARY:13.09.2020: Führung Jüdischer Friedhof Groß-Gerau
DESCRIPTION:E I N L A D U N G  \nFührung auf dem jüdischen Friedhof in Groß-Gerau \nAm Sonntag\, 13. September 2020 plant der Förderverein Jüdische Geschichte und Kultur im Kreis Groß-Gerau e:V. eine Führung auf dem jüdischen Friedhof. \nTreffpunkt ist der Eingang in der Theodor-Heuss-Str. \n( neben dem Schwimmbad ) \num 15.00 Uhr. Dauer ca 60 Minuten. \nEine vorherige Anmeldung mit Namen\, Vornamen\, Adresse und Kontaktdaten ist unerlässlich. \nwalter.ullrich@ freenet.de oder Walter Ullrich\, Ringstr 50\, 65468 Trebur – Geinsheim \nDie Besucherzahl ist in Coronazeiten auf 15 Personen beschränkt. \nEs gelten die AHA Regeln (Abstand\, Hygiene\, Alltagsmasken). \nWalter Ullrich \n1.Vorsitzender \nFörderverein Jüdische Geschichte \nund Kultur im Kreis Groß-Gerau e.V. \n  \n  \n 
URL:https://www.fjgk.de/event/13-09-2020-fuehrung-juedischer-friedhof/
END:VEVENT
END:VCALENDAR