BEGIN:VCALENDAR
VERSION:2.0
PRODID:-//Förderverein Jüdische Geschichte und Kultur im Kreis Groß-Gerau e.V. - ECPv6.15.20//NONSGML v1.0//EN
CALSCALE:GREGORIAN
METHOD:PUBLISH
X-ORIGINAL-URL:https://www.fjgk.de
X-WR-CALDESC:Veranstaltungen für Förderverein Jüdische Geschichte und Kultur im Kreis Groß-Gerau e.V.
REFRESH-INTERVAL;VALUE=DURATION:PT1H
X-Robots-Tag:noindex
X-PUBLISHED-TTL:PT1H
BEGIN:VTIMEZONE
TZID:Europe/Paris
BEGIN:DAYLIGHT
TZOFFSETFROM:+0100
TZOFFSETTO:+0200
TZNAME:CEST
DTSTART:20210328T010000
END:DAYLIGHT
BEGIN:STANDARD
TZOFFSETFROM:+0200
TZOFFSETTO:+0100
TZNAME:CET
DTSTART:20211031T010000
END:STANDARD
BEGIN:DAYLIGHT
TZOFFSETFROM:+0100
TZOFFSETTO:+0200
TZNAME:CEST
DTSTART:20220327T010000
END:DAYLIGHT
BEGIN:STANDARD
TZOFFSETFROM:+0200
TZOFFSETTO:+0100
TZNAME:CET
DTSTART:20221030T010000
END:STANDARD
BEGIN:DAYLIGHT
TZOFFSETFROM:+0100
TZOFFSETTO:+0200
TZNAME:CEST
DTSTART:20230326T010000
END:DAYLIGHT
BEGIN:STANDARD
TZOFFSETFROM:+0200
TZOFFSETTO:+0100
TZNAME:CET
DTSTART:20231029T010000
END:STANDARD
END:VTIMEZONE
BEGIN:VEVENT
DTSTART;TZID=Europe/Paris:20220727T190000
DTEND;TZID=Europe/Paris:20220727T190000
DTSTAMP:20260423T020214
CREATED:20220726T105926Z
LAST-MODIFIED:20220726T105926Z
UID:2326-1658948400-1658948400@www.fjgk.de
SUMMARY:Einladung zur Vorstandssitzung am 27.07.2022 um 19:00 Uhr
DESCRIPTION:Einladung zur Vorstandssitzung             27. Juli 2022  19.00 Uhr \nTagesordnungspunkte: \n1) Begrüßung\, Beschlussfähigkeit\, Genehmigung TO \n2) Genehmigung des Protokolls der letzten Sitzung \n3) Vorstandsberichte \nStand der baulichen Erhaltungsmaßnahmen \nNeue Mitarbeitende \nInhaltliche Arbeiten \n4) Vorbereitung von Veranstaltungen / Termine: \nBesuche: Jüdischer Friedhof Groß-Gerau \nJHV im Sommer TO /Wahlen \n  \n5) Archiv- und Bibliotheksarbeiten \nInternetauftritt \n  \n7 ) Verschiedenes \n–  Mitgliederbrief im Sommer \n  \nPS. Die TO kann aktuell ergänzt werden \n  \ngez Walter Ullrich
URL:https://www.fjgk.de/event/einladung-zur-vorstandssitzung-am-27-07-2022-um-1900-uhr/
END:VEVENT
END:VCALENDAR