BEGIN:VCALENDAR
VERSION:2.0
PRODID:-//Förderverein Jüdische Geschichte und Kultur im Kreis Groß-Gerau e.V. - ECPv6.15.20//NONSGML v1.0//EN
CALSCALE:GREGORIAN
METHOD:PUBLISH
X-WR-CALNAME:Förderverein Jüdische Geschichte und Kultur im Kreis Groß-Gerau e.V.
X-ORIGINAL-URL:https://www.fjgk.de
X-WR-CALDESC:Veranstaltungen für Förderverein Jüdische Geschichte und Kultur im Kreis Groß-Gerau e.V.
REFRESH-INTERVAL;VALUE=DURATION:PT1H
X-Robots-Tag:noindex
X-PUBLISHED-TTL:PT1H
BEGIN:VTIMEZONE
TZID:Europe/Paris
BEGIN:DAYLIGHT
TZOFFSETFROM:+0100
TZOFFSETTO:+0200
TZNAME:CEST
DTSTART:20220327T010000
END:DAYLIGHT
BEGIN:STANDARD
TZOFFSETFROM:+0200
TZOFFSETTO:+0100
TZNAME:CET
DTSTART:20221030T010000
END:STANDARD
BEGIN:DAYLIGHT
TZOFFSETFROM:+0100
TZOFFSETTO:+0200
TZNAME:CEST
DTSTART:20230326T010000
END:DAYLIGHT
BEGIN:STANDARD
TZOFFSETFROM:+0200
TZOFFSETTO:+0100
TZNAME:CET
DTSTART:20231029T010000
END:STANDARD
BEGIN:DAYLIGHT
TZOFFSETFROM:+0100
TZOFFSETTO:+0200
TZNAME:CEST
DTSTART:20240331T010000
END:DAYLIGHT
BEGIN:STANDARD
TZOFFSETFROM:+0200
TZOFFSETTO:+0100
TZNAME:CET
DTSTART:20241027T010000
END:STANDARD
END:VTIMEZONE
BEGIN:VEVENT
DTSTART;TZID=Europe/Paris:20230405T190000
DTEND;TZID=Europe/Paris:20230405T203000
DTSTAMP:20260423T141226
CREATED:20230320T133228Z
LAST-MODIFIED:20230320T133228Z
UID:3070-1680721200-1680726600@www.fjgk.de
SUMMARY:Einladung zu einem Vortrag über Pessach am 05.04.2023 um 19.00 Uhr
DESCRIPTION:Einladung zu einem Vortrag über Pessach am 05.04.2023 um 19.00 Uhr
URL:https://www.fjgk.de/event/einladung-zu-einem-vortrag-ueber-pessach-am-05-04-2023-um-19-00-uhr/
END:VEVENT
BEGIN:VEVENT
DTSTART;TZID=Europe/Paris:20230419T190000
DTEND;TZID=Europe/Paris:20230419T203000
DTSTAMP:20260423T141226
CREATED:20230328T141317Z
LAST-MODIFIED:20230328T141448Z
UID:3093-1681930800-1681936200@www.fjgk.de
SUMMARY:Einladung zum zweiten Vortrag über Mythos und Wirklichkeit im Nationalsozialismus am 19.04.2023 um 19.00 Uhr
DESCRIPTION:Einladung zum zweiten Vortrag über Mythos und Wirklichkeit im Nationalsozialismus am 19.04.2023 um 19.00 Uhr
URL:https://www.fjgk.de/event/einladung-zum-zweiten-vortrag-ueber-mythos-und-wirklichkeit-im-nationalsozialismus-am-19-04-2023-um-19-00-uhr/
END:VEVENT
BEGIN:VEVENT
DTSTART;TZID=Europe/Paris:20230423T140000
DTEND;TZID=Europe/Paris:20230423T150000
DTSTAMP:20260423T141226
CREATED:20230402T111250Z
LAST-MODIFIED:20230402T112746Z
UID:3104-1682258400-1682262000@www.fjgk.de
SUMMARY:Einladung zum Besuch des jüdischen Friedhofs in Groß-Gerau am 23.04.2023 um 14.00 Uhr
DESCRIPTION:Einladung zum Besuch des jüdischen Friedhofs in Groß-Gerau am 23.04.2023 um 14.00 Uhr
URL:https://www.fjgk.de/event/einladung-zum-besuch-des-juedischen-friedhofs-in-gross-gerau-am-23-04-2023-um-14-00-uhr/
END:VEVENT
END:VCALENDAR