BEGIN:VCALENDAR
VERSION:2.0
PRODID:-//Förderverein Jüdische Geschichte und Kultur im Kreis Groß-Gerau e.V. - ECPv6.15.20//NONSGML v1.0//EN
CALSCALE:GREGORIAN
METHOD:PUBLISH
X-ORIGINAL-URL:https://www.fjgk.de
X-WR-CALDESC:Veranstaltungen für Förderverein Jüdische Geschichte und Kultur im Kreis Groß-Gerau e.V.
REFRESH-INTERVAL;VALUE=DURATION:PT1H
X-Robots-Tag:noindex
X-PUBLISHED-TTL:PT1H
BEGIN:VTIMEZONE
TZID:Europe/Paris
BEGIN:DAYLIGHT
TZOFFSETFROM:+0100
TZOFFSETTO:+0200
TZNAME:CEST
DTSTART:20220327T010000
END:DAYLIGHT
BEGIN:STANDARD
TZOFFSETFROM:+0200
TZOFFSETTO:+0100
TZNAME:CET
DTSTART:20221030T010000
END:STANDARD
BEGIN:DAYLIGHT
TZOFFSETFROM:+0100
TZOFFSETTO:+0200
TZNAME:CEST
DTSTART:20230326T010000
END:DAYLIGHT
BEGIN:STANDARD
TZOFFSETFROM:+0200
TZOFFSETTO:+0100
TZNAME:CET
DTSTART:20231029T010000
END:STANDARD
BEGIN:DAYLIGHT
TZOFFSETFROM:+0100
TZOFFSETTO:+0200
TZNAME:CEST
DTSTART:20240331T010000
END:DAYLIGHT
BEGIN:STANDARD
TZOFFSETFROM:+0200
TZOFFSETTO:+0100
TZNAME:CET
DTSTART:20241027T010000
END:STANDARD
END:VTIMEZONE
BEGIN:VEVENT
DTSTART;TZID=Europe/Paris:20230906T190000
DTEND;TZID=Europe/Paris:20230906T203000
DTSTAMP:20260423T221857
CREATED:20230824T154725Z
LAST-MODIFIED:20240804T061326Z
UID:3370-1694026800-1694032200@www.fjgk.de
SUMMARY:Einladung zu einem Vortrag über den jüdischen Festtag Jom Kippur am 06.09.2023 um 19.00 Uhr
DESCRIPTION:Einladung zu einem Vortrag über den jüdischen Festtag Jom Kippur am 06.09.2023 um 19.00 Uhr
URL:https://www.fjgk.de/event/einladung-zu-einem-vortrag-ueber-den-juedischen-festtag-jom-kippur-am-06-09-2023-um-19-00-uhr/
END:VEVENT
BEGIN:VEVENT
DTSTART;TZID=Europe/Paris:20230920T190000
DTEND;TZID=Europe/Paris:20230920T203000
DTSTAMP:20260423T221857
CREATED:20230824T160127Z
LAST-MODIFIED:20240804T061359Z
UID:3379-1695236400-1695241800@www.fjgk.de
SUMMARY:Einladung zum vierten Vortrag über Mythos und Wirklichkeit im Nationalsozialismus am 20.09.2023 um 19.00 Uhr
DESCRIPTION:Einladung zum vierten Vortrag über Mythos und Wirklichkeit im Nationalsozialismus am 20.09.2023 um 19.00 Uhr
URL:https://www.fjgk.de/event/einladung-zum-vierten-vortrag-ueber-mythos-und-wirklichkeit-im-nationalsozialismus-am-20-09-2023-um-19-00-uhr/
END:VEVENT
END:VCALENDAR