BEGIN:VCALENDAR
VERSION:2.0
PRODID:-//Förderverein Jüdische Geschichte und Kultur im Kreis Groß-Gerau e.V. - ECPv6.15.20//NONSGML v1.0//EN
CALSCALE:GREGORIAN
METHOD:PUBLISH
X-WR-CALNAME:Förderverein Jüdische Geschichte und Kultur im Kreis Groß-Gerau e.V.
X-ORIGINAL-URL:https://www.fjgk.de
X-WR-CALDESC:Veranstaltungen für Förderverein Jüdische Geschichte und Kultur im Kreis Groß-Gerau e.V.
REFRESH-INTERVAL;VALUE=DURATION:PT1H
X-Robots-Tag:noindex
X-PUBLISHED-TTL:PT1H
BEGIN:VTIMEZONE
TZID:Europe/Paris
BEGIN:DAYLIGHT
TZOFFSETFROM:+0100
TZOFFSETTO:+0200
TZNAME:CEST
DTSTART:20220327T010000
END:DAYLIGHT
BEGIN:STANDARD
TZOFFSETFROM:+0200
TZOFFSETTO:+0100
TZNAME:CET
DTSTART:20221030T010000
END:STANDARD
BEGIN:DAYLIGHT
TZOFFSETFROM:+0100
TZOFFSETTO:+0200
TZNAME:CEST
DTSTART:20230326T010000
END:DAYLIGHT
BEGIN:STANDARD
TZOFFSETFROM:+0200
TZOFFSETTO:+0100
TZNAME:CET
DTSTART:20231029T010000
END:STANDARD
BEGIN:DAYLIGHT
TZOFFSETFROM:+0100
TZOFFSETTO:+0200
TZNAME:CEST
DTSTART:20240331T010000
END:DAYLIGHT
BEGIN:STANDARD
TZOFFSETFROM:+0200
TZOFFSETTO:+0100
TZNAME:CET
DTSTART:20241027T010000
END:STANDARD
END:VTIMEZONE
BEGIN:VEVENT
DTSTART;TZID=Europe/Paris:20231004T190000
DTEND;TZID=Europe/Paris:20231004T203000
DTSTAMP:20260423T235758
CREATED:20230921T105158Z
LAST-MODIFIED:20240804T061205Z
UID:3563-1696446000-1696451400@www.fjgk.de
SUMMARY:ENTFÄLLT WEGEN ERKRANKUNG  -  Einladung zu einem Vortrag über den jüdischen Festtag Jom Kippur am 04.10.2023 um 19.00 Uhr
DESCRIPTION:ENTFÄLLT WEGEN ERKRANKUNG\nENTFAELLT WEGEN ERKRANKUNG – Einladung zu einem Vortrag über den jüdischen Festtag Jom Kippur am 04.10.2023 um 19.00 Uhr – Presse
URL:https://www.fjgk.de/event/einladung-zu-einem-vortrag-ueber-den-juedischen-festtag-jom-kippur-am-04-10-2023-um-19-00-uhr/
END:VEVENT
BEGIN:VEVENT
DTSTART;TZID=Europe/Paris:20231011T190000
DTEND;TZID=Europe/Paris:20231011T203000
DTSTAMP:20260423T235758
CREATED:20230921T130227Z
LAST-MODIFIED:20240804T061125Z
UID:3567-1697050800-1697056200@www.fjgk.de
SUMMARY:ABSAGE WEGEN ERKRANKUNG - Einladung zu einem weiteren Vortrag über Mythos und Wirklichkeit im Nationalsozialismus am 11.10.2023 um 19.00  Uhr  -  DIE VERANSTALTUNG WIRD ZU EINEM SPÄTEREN ZEITPUNKT NACHGEHOLT
DESCRIPTION:ABSAGE WEGEN ERKRANKUNG – Einladung zu einem weiteren Vortrag über Mythos und Wirklichkeit im Nationalsozialismus am 11.10.2023 um 19.00 Uhr \nDIE VERANSTALTUNG WIRD ZU EINEM SPÄTEREN ZEITPUNKT NACHGEHOLT
URL:https://www.fjgk.de/event/einladung-zu-einem-weiteren-vortrag-ueber-mythos-und-wirklichkeit-im-nationalsozialismus-am-11-10-2023-um-19-00-uhr/
END:VEVENT
BEGIN:VEVENT
DTSTART;TZID=Europe/Paris:20231015T140000
DTEND;TZID=Europe/Paris:20231015T150000
DTSTAMP:20260423T235758
CREATED:20230906T064908Z
LAST-MODIFIED:20240804T061046Z
UID:3468-1697378400-1697382000@www.fjgk.de
SUMMARY:ABSAGE WEGEN ERKRANKUNG - Einladung zum Besuch des jüdischen Friedhofs in Groß-Gerau am 15.10.2023 um 14.00 Uhr  -  DIE VERANSTALTUNG WIRD ZU EINEM SPÄTEREN ZEITPUNKT NACHGEHOLT
DESCRIPTION:ABSAGE WEGEN ERKRANKUNG – Einladung zum Besuch des jüdischen Friedhofs in Groß-Gerau am 15.10.2023 um 14.00 Uhr \nDIE VERANSTALTUNG WIRD ZU EINEM SPÄTEREN ZEITPUNKT NACHGEHOLT
URL:https://www.fjgk.de/event/einladung-zum-besuch-des-juedischen-friedhofs-in-gross-gerau-am-15-10-2023-um-14-00-uhr/
END:VEVENT
BEGIN:VEVENT
DTSTART;TZID=Europe/Paris:20231025T190000
DTEND;TZID=Europe/Paris:20231025T203000
DTSTAMP:20260423T235758
CREATED:20230921T155049Z
LAST-MODIFIED:20240804T063556Z
UID:3572-1698260400-1698265800@www.fjgk.de
SUMMARY:Einladung zu einem weiteren Vortrag über Sinti und Roma - Geschichte und Aktualität einer Minderheit am 25.10.2023 um 19.00 Uhr
DESCRIPTION:Einladung zu einem weiteren Vortrag über Sinti und Roma – Geschichte und Aktualität einer Minderheit am 25.10.2023 um 19.00 Uhr
URL:https://www.fjgk.de/event/einladung-zu-einem-weiteren-vortrag-ueber-sinti-und-roma-geschichte-und-aktualitaet-einer-minderheit-am-25-10-2023-um-19-00-uhr/
END:VEVENT
END:VCALENDAR