BEGIN:VCALENDAR
VERSION:2.0
PRODID:-//Förderverein Jüdische Geschichte und Kultur im Kreis Groß-Gerau e.V. - ECPv6.15.20//NONSGML v1.0//EN
CALSCALE:GREGORIAN
METHOD:PUBLISH
X-ORIGINAL-URL:https://www.fjgk.de
X-WR-CALDESC:Veranstaltungen für Förderverein Jüdische Geschichte und Kultur im Kreis Groß-Gerau e.V.
REFRESH-INTERVAL;VALUE=DURATION:PT1H
X-Robots-Tag:noindex
X-PUBLISHED-TTL:PT1H
BEGIN:VTIMEZONE
TZID:Europe/Paris
BEGIN:DAYLIGHT
TZOFFSETFROM:+0100
TZOFFSETTO:+0200
TZNAME:CEST
DTSTART:20220327T010000
END:DAYLIGHT
BEGIN:STANDARD
TZOFFSETFROM:+0200
TZOFFSETTO:+0100
TZNAME:CET
DTSTART:20221030T010000
END:STANDARD
BEGIN:DAYLIGHT
TZOFFSETFROM:+0100
TZOFFSETTO:+0200
TZNAME:CEST
DTSTART:20230326T010000
END:DAYLIGHT
BEGIN:STANDARD
TZOFFSETFROM:+0200
TZOFFSETTO:+0100
TZNAME:CET
DTSTART:20231029T010000
END:STANDARD
BEGIN:DAYLIGHT
TZOFFSETFROM:+0100
TZOFFSETTO:+0200
TZNAME:CEST
DTSTART:20240331T010000
END:DAYLIGHT
BEGIN:STANDARD
TZOFFSETFROM:+0200
TZOFFSETTO:+0100
TZNAME:CET
DTSTART:20241027T010000
END:STANDARD
END:VTIMEZONE
BEGIN:VEVENT
DTSTART;TZID=Europe/Paris:20231110T190000
DTEND;TZID=Europe/Paris:20231110T203000
DTSTAMP:20260424T013828
CREATED:20231022T145555Z
LAST-MODIFIED:20240804T060926Z
UID:3643-1699642800-1699648200@www.fjgk.de
SUMMARY:Einladung zu einer Gedenkveranstaltung zu den Novemberpogromen 1938 am 10.11.2023 um 19.00 Uhr
DESCRIPTION:Einladung zu einer Gedenkveranstaltung zu den Novemberpogromen 1938 am 10.11.2023 um 19.00 Uhr
URL:https://www.fjgk.de/event/einladung-zu-einer-gedenkveranstaltung-zu-den-novemberpogromen-1938-am-10-11-2023-um-19-00-uhr/
END:VEVENT
BEGIN:VEVENT
DTSTART;TZID=Europe/Paris:20231119T140000
DTEND;TZID=Europe/Paris:20231119T150000
DTSTAMP:20260424T013828
CREATED:20231016T092400Z
LAST-MODIFIED:20240804T060839Z
UID:3637-1700402400-1700406000@www.fjgk.de
SUMMARY:AUSGEBUCHT  -  Einladung zum Besuch des jüdischen Friedhofs in Groß-Gerau am 19.11.2023 um 14.00 Uhr
DESCRIPTION:AUSGEBUCHT – Einladung zum Besuch des jüdischen Friedhofs in Groß-Gerau am 19.11.2023 um 14.00 Uhr
URL:https://www.fjgk.de/event/einladung-zum-besuch-des-juedischen-friedhofs-in-gross-gerau-am-19-11-2023-um-14-00-uhr/
END:VEVENT
END:VCALENDAR