BEGIN:VCALENDAR
VERSION:2.0
PRODID:-//Förderverein Jüdische Geschichte und Kultur im Kreis Groß-Gerau e.V. - ECPv6.15.20//NONSGML v1.0//EN
CALSCALE:GREGORIAN
METHOD:PUBLISH
X-ORIGINAL-URL:https://www.fjgk.de
X-WR-CALDESC:Veranstaltungen für Förderverein Jüdische Geschichte und Kultur im Kreis Groß-Gerau e.V.
REFRESH-INTERVAL;VALUE=DURATION:PT1H
X-Robots-Tag:noindex
X-PUBLISHED-TTL:PT1H
BEGIN:VTIMEZONE
TZID:Europe/Paris
BEGIN:DAYLIGHT
TZOFFSETFROM:+0100
TZOFFSETTO:+0200
TZNAME:CEST
DTSTART:20230326T010000
END:DAYLIGHT
BEGIN:STANDARD
TZOFFSETFROM:+0200
TZOFFSETTO:+0100
TZNAME:CET
DTSTART:20231029T010000
END:STANDARD
BEGIN:DAYLIGHT
TZOFFSETFROM:+0100
TZOFFSETTO:+0200
TZNAME:CEST
DTSTART:20240331T010000
END:DAYLIGHT
BEGIN:STANDARD
TZOFFSETFROM:+0200
TZOFFSETTO:+0100
TZNAME:CET
DTSTART:20241027T010000
END:STANDARD
BEGIN:DAYLIGHT
TZOFFSETFROM:+0100
TZOFFSETTO:+0200
TZNAME:CEST
DTSTART:20250330T010000
END:DAYLIGHT
BEGIN:STANDARD
TZOFFSETFROM:+0200
TZOFFSETTO:+0100
TZNAME:CET
DTSTART:20251026T010000
END:STANDARD
END:VTIMEZONE
BEGIN:VEVENT
DTSTART;TZID=Europe/Paris:20240310T140000
DTEND;TZID=Europe/Paris:20240310T150000
DTSTAMP:20260424T074021
CREATED:20240115T141249Z
LAST-MODIFIED:20240804T060508Z
UID:3906-1710079200-1710082800@www.fjgk.de
SUMMARY:AUSGEBUCHT - Einladung zum Besuch des jüdischen Friedhofs in Groß-Gerau am  10.03.2024 um 14.00 Uhr  -  EINEN FOLGETERMIN WIRD ES AM 14.04.2024 GEBEN
DESCRIPTION:AUSGEBUCHT – Einladung zum Besuch des jüdischen Friedhofs in Groß-Gerau am 10.03.2024 um 14.00 Uhr \nEINEN FOLGETERMIN WIRD ES AM 14.04.2024 GEBEN
URL:https://www.fjgk.de/event/einladung-zum-besuch-des-juedischen-friedhofs-in-gross-gerau-am-10-03-2024-um-14-00-uhr/
END:VEVENT
BEGIN:VEVENT
DTSTART;TZID=Europe/Paris:20240315T173000
DTEND;TZID=Europe/Paris:20240315T190000
DTSTAMP:20260424T074021
CREATED:20240312T115647Z
LAST-MODIFIED:20240804T060259Z
UID:4160-1710523800-1710529200@www.fjgk.de
SUMMARY:NIE WIEDER IST JETZT - Kundgebung gegen Faschismus am 15.03.2024 17.30 Uhr in Goddelau
DESCRIPTION:NIE WIEDER IST JETZT – Kundgebung gegen Faschismus am 15.03.2024 17.30 Uhr in Goddelau
URL:https://www.fjgk.de/event/nie-wieder-ist-jetzt-kundgebung-gegen-faschismus-am-15-03-2024-17-30-uhr-in-goddelau/
END:VEVENT
BEGIN:VEVENT
DTSTART;TZID=Europe/Paris:20240321T180000
DTEND;TZID=Europe/Paris:20240321T190000
DTSTAMP:20260424T074021
CREATED:20240226T211032Z
LAST-MODIFIED:20240804T060216Z
UID:4118-1711044000-1711047600@www.fjgk.de
SUMMARY:Aufruf zur Kornsandgedenkstunde am 21.03.2024 um 18.00 Uhr
DESCRIPTION:Aufruf zur Kornsandgedenkstunde am 21.03.2024 um 18.00 Uhr
URL:https://www.fjgk.de/event/aufruf-zur-kornsandgedenkstunde-am-21-03-2024-um-18-00-uhr/
END:VEVENT
END:VCALENDAR